BEGIN:VCALENDAR
VERSION:2.0
PRODID:-//jEvents 2.0 for Joomla//EN
CALSCALE:GREGORIAN
METHOD:PUBLISH
BEGIN:VEVENT
UID:3e351eeebe3de88a47bda679bd420751
CATEGORIES:DEFAULT
SUMMARY:Randonnée douce
DESCRIPTION;ENCODING=QUOTED-PRINTABLE:<p>Organisée par Bernard Braganti.</p>
X-EXTRAINFO:.
DTSTAMP:20260423T143958Z
DTSTART:20230419T113000Z
SEQUENCE:0
TRANSP:OPAQUE
END:VEVENT
END:VCALENDAR