BEGIN:VCALENDAR
VERSION:2.0
PRODID:-//jEvents 2.0 for Joomla//EN
CALSCALE:GREGORIAN
METHOD:PUBLISH
BEGIN:VEVENT
UID:5a5cd568783fafdc0bc093f442de0f1c
CATEGORIES:DEFAULT
SUMMARY:Réunion de l'Association Locale
DESCRIPTION;ENCODING=QUOTED-PRINTABLE:\n\nSalle Gérard Philipe.\n
X-EXTRAINFO:.
DTSTAMP:20260423T132251Z
DTSTART:20230401T070000Z
SEQUENCE:0
TRANSP:OPAQUE
END:VEVENT
END:VCALENDAR