BEGIN:VCALENDAR
VERSION:2.0
PRODID:-//jEvents 2.0 for Joomla//EN
CALSCALE:GREGORIAN
METHOD:PUBLISH
BEGIN:VEVENT
UID:2a2ccc402b602ab30ab5bc3222063d65
CATEGORIES:DEFAULT
SUMMARY:Randonnée douce
DESCRIPTION;ENCODING=QUOTED-PRINTABLE:<p>Organisée par Monique Oberlé.</p>
X-EXTRAINFO:.
DTSTAMP:20260425T101754Z
DTSTART:20230326T113000Z
SEQUENCE:0
TRANSP:OPAQUE
END:VEVENT
END:VCALENDAR