BEGIN:VCALENDAR
VERSION:2.0
PRODID:-//jEvents 2.0 for Joomla//EN
CALSCALE:GREGORIAN
METHOD:PUBLISH
BEGIN:VEVENT
UID:b6563a9f119e2fdbfc097fe390ba2ea5
CATEGORIES:DEFAULT
SUMMARY:Diaporamas
DESCRIPTION;ENCODING=QUOTED-PRINTABLE:\n\nProjection de diaporamas par : André Antoine.\n\n\nSalle Cholé au musée
  St-Dié. Entrée gratuite.\n
X-EXTRAINFO:.
DTSTAMP:20260423T161007Z
DTSTART:20230324T193000Z
SEQUENCE:0
TRANSP:OPAQUE
END:VEVENT
END:VCALENDAR