BEGIN:VCALENDAR
VERSION:2.0
PRODID:-//jEvents 2.0 for Joomla//EN
CALSCALE:GREGORIAN
METHOD:PUBLISH
BEGIN:VEVENT
UID:695c435fd318ed5f28c92e8e226561a4
CATEGORIES:DEFAULT
SUMMARY:Diaporamas
DESCRIPTION;ENCODING=QUOTED-PRINTABLE:<p>Projection de diaporamas par : André Antoine.</p><p>Salle Cholé au musée
  St-Dié. Entrée gratuite.</p>
X-EXTRAINFO:.
DTSTAMP:20260423T161423Z
DTSTART:20230324T140000Z
SEQUENCE:0
TRANSP:OPAQUE
END:VEVENT
END:VCALENDAR