BEGIN:VCALENDAR
VERSION:2.0
PRODID:-//jEvents 2.0 for Joomla//EN
CALSCALE:GREGORIAN
METHOD:PUBLISH
BEGIN:VEVENT
UID:42650c813f42dc0ec4cd576687247810
CATEGORIES:DEFAULT
SUMMARY:Randonnée douce
DESCRIPTION;ENCODING=QUOTED-PRINTABLE:<p>Organisée par Bernard Braganti</p>
X-EXTRAINFO:.
DTSTAMP:20260423T163353Z
DTSTART:20230315T123000Z
SEQUENCE:0
TRANSP:OPAQUE
END:VEVENT
END:VCALENDAR