BEGIN:VCALENDAR
VERSION:2.0
PRODID:-//jEvents 2.0 for Joomla//EN
CALSCALE:GREGORIAN
METHOD:PUBLISH
BEGIN:VEVENT
UID:1e2cd006c4b1086052b95b02e76cbec5
CATEGORIES:DEFAULT
SUMMARY:Repas fondue chinoise
DESCRIPTION;ENCODING=QUOTED-PRINTABLE:\n\nRepas organisé par : Geneviève Goethals au Hangochet\n
X-EXTRAINFO:.
DTSTAMP:20260423T162754Z
DTSTART:20230308T110000Z
SEQUENCE:0
TRANSP:OPAQUE
END:VEVENT
END:VCALENDAR