BEGIN:VCALENDAR
VERSION:2.0
PRODID:-//jEvents 2.0 for Joomla//EN
CALSCALE:GREGORIAN
METHOD:PUBLISH
BEGIN:VEVENT
UID:3404c5d2c0eb265546d1d08474687392
CATEGORIES:DEFAULT
SUMMARY:Sortie raquettes
DESCRIPTION;ENCODING=QUOTED-PRINTABLE:<p>Sortie raquettes organisée par : François Goethals (03 29 51 95 06)</p>
X-EXTRAINFO:.
DTSTAMP:20260423T163122Z
DTSTART:20230305T073000Z
SEQUENCE:0
TRANSP:OPAQUE
END:VEVENT
END:VCALENDAR