BEGIN:VCALENDAR
VERSION:2.0
PRODID:-//jEvents 2.0 for Joomla//EN
CALSCALE:GREGORIAN
METHOD:PUBLISH
BEGIN:VEVENT
UID:d43d9c8e01b2f75671bb9e6cb1d22ea1
CATEGORIES:DEFAULT
SUMMARY:Réunion du CA
DESCRIPTION;ENCODING=QUOTED-PRINTABLE:<p>Salle Gérard Philipe</p>
X-EXTRAINFO:.
DTSTAMP:20260423T163123Z
DTSTART:20230303T190000Z
SEQUENCE:0
TRANSP:OPAQUE
END:VEVENT
END:VCALENDAR