BEGIN:VCALENDAR
VERSION:2.0
PRODID:-//jEvents 2.0 for Joomla//EN
CALSCALE:GREGORIAN
METHOD:PUBLISH
BEGIN:VEVENT
UID:544e9fa5aed052845d9b8ac945aacd89
CATEGORIES:DEFAULT
SUMMARY:Sortie raquettes
DESCRIPTION;ENCODING=QUOTED-PRINTABLE:<p>Sortie raquettes organisée par : Francine Habert et Jean-Charles Martin.
 </p><p>Le Hangochet col du Bonhomme.</p>
X-EXTRAINFO:.
DTSTAMP:20260423T161442Z
DTSTART:20230228T080000Z
SEQUENCE:0
TRANSP:OPAQUE
END:VEVENT
END:VCALENDAR