BEGIN:VCALENDAR
VERSION:2.0
PRODID:-//jEvents 2.0 for Joomla//EN
CALSCALE:GREGORIAN
METHOD:PUBLISH
BEGIN:VEVENT
UID:db7c0bed60aab8136682569c01cea983
CATEGORIES:DEFAULT
SUMMARY:Sortie raquettes
DESCRIPTION;ENCODING=QUOTED-PRINTABLE:<p>Sortie raquettes organisée par : Gérard Kessler et Jean-Charles Martin</
 p>
X-EXTRAINFO:.
DTSTAMP:20260423T161133Z
DTSTART:20230214T073000Z
SEQUENCE:0
TRANSP:OPAQUE
END:VEVENT
END:VCALENDAR