BEGIN:VCALENDAR
VERSION:2.0
PRODID:-//jEvents 2.0 for Joomla//EN
CALSCALE:GREGORIAN
METHOD:PUBLISH
BEGIN:VEVENT
UID:96b0e30c745b0e37b51088d3cccd80d7
CATEGORIES:DEFAULT
SUMMARY:Galette
DESCRIPTION;ENCODING=QUOTED-PRINTABLE:<p>Organisée par Francine Habert (03 29 56 55 01) et Micheline Combeau.</p>
 <p>Inscription OBLIGATOIRE avant le 05/01 : 7 €</p>
X-EXTRAINFO:.
DTSTAMP:20260425T115257Z
DTSTART:20230108T150000Z
SEQUENCE:0
TRANSP:OPAQUE
END:VEVENT
END:VCALENDAR