BEGIN:VCALENDAR
VERSION:2.0
PRODID:-//jEvents 2.0 for Joomla//EN
CALSCALE:GREGORIAN
METHOD:PUBLISH
BEGIN:VEVENT
UID:8b0739bbb73cce5db428a7ced96b5f93
CATEGORIES:DEFAULT
SUMMARY:Après-midi loisirs en salle Gérard Philipe
DESCRIPTION;ENCODING=QUOTED-PRINTABLE:\n\nAprès-midi loisirs en salle Gérard Philipe (Francine Habert et Michelin
 e Combeau)\n
X-EXTRAINFO:.
DTSTAMP:20260423T171406Z
DTSTART:20230609T120000Z
SEQUENCE:0
TRANSP:OPAQUE
END:VEVENT
END:VCALENDAR