BEGIN:VCALENDAR
VERSION:2.0
PRODID:-//jEvents 2.0 for Joomla//EN
CALSCALE:GREGORIAN
METHOD:PUBLISH
BEGIN:VEVENT
UID:04047b34282d55d52a39eaf2745474d7
CATEGORIES:DEFAULT
SUMMARY:Après-midi loisirs en salle Gérard Philipe
DESCRIPTION;ENCODING=QUOTED-PRINTABLE:<p>Après-midi loisirs en salle Gérard Philipe (Francine Habert et Micheline
  Combeau)</p>
X-EXTRAINFO:.
DTSTAMP:20260423T161503Z
DTSTART:20230512T120000Z
SEQUENCE:0
TRANSP:OPAQUE
END:VEVENT
END:VCALENDAR