BEGIN:VCALENDAR
VERSION:2.0
PRODID:-//jEvents 2.0 for Joomla//EN
CALSCALE:GREGORIAN
METHOD:PUBLISH
BEGIN:VEVENT
UID:108b3fae02807272919a149d871f919a
CATEGORIES:DEFAULT
SUMMARY:Après-midi loisirs en salle Gérard Philipe
DESCRIPTION;ENCODING=QUOTED-PRINTABLE:\n\nAprès-midi loisirs en salle Gérard Philipe (Francine Habert et Michelin
 e Combeau)\n
X-EXTRAINFO:.
DTSTAMP:20260423T132548Z
DTSTART:20230414T120000Z
SEQUENCE:0
TRANSP:OPAQUE
END:VEVENT
END:VCALENDAR