BEGIN:VCALENDAR
VERSION:2.0
PRODID:-//jEvents 2.0 for Joomla//EN
CALSCALE:GREGORIAN
METHOD:PUBLISH
BEGIN:VEVENT
UID:04d9a5388e7c322c3ed642b5c83af47f
CATEGORIES:DEFAULT
SUMMARY:Après-midi loisirs en salle Gérard Philipe
DESCRIPTION;ENCODING=QUOTED-PRINTABLE:<p>Après-midi loisirs en salle Gérard Philipe (Francine Habert et Micheline
  Combeau)</p>
X-EXTRAINFO:.
DTSTAMP:20260423T161423Z
DTSTART:20230310T130000Z
SEQUENCE:0
TRANSP:OPAQUE
END:VEVENT
END:VCALENDAR