BEGIN:VCALENDAR
VERSION:2.0
PRODID:-//jEvents 2.0 for Joomla//EN
CALSCALE:GREGORIAN
METHOD:PUBLISH
BEGIN:VEVENT
UID:2058ccb2fc547d2c6ddc06bd6f03368e
CATEGORIES:DEFAULT
SUMMARY:Après-midi loisirs en salle Gérard Philipe
DESCRIPTION;ENCODING=QUOTED-PRINTABLE:<p>Après-midi loisirs en salle Gérard Philipe (Francine Habert et Micheline
  Combeau)</p>
X-EXTRAINFO:.
DTSTAMP:20260423T161200Z
DTSTART:20230224T130000Z
SEQUENCE:0
TRANSP:OPAQUE
END:VEVENT
END:VCALENDAR