BEGIN:VCALENDAR
VERSION:2.0
PRODID:-//jEvents 2.0 for Joomla//EN
CALSCALE:GREGORIAN
METHOD:PUBLISH
BEGIN:VEVENT
UID:2ea9d866497e596de0a0e6321ff5f291
CATEGORIES:DEFAULT
SUMMARY:Après-midi loisirs en salle Gérard Philipe
DESCRIPTION;ENCODING=QUOTED-PRINTABLE:<p>Après-midi loisirs en salle Gérard Philipe (Francine Habert et Micheline
  Combeau)</p>
X-EXTRAINFO:.
DTSTAMP:20260423T161252Z
DTSTART:20230210T130000Z
SEQUENCE:0
TRANSP:OPAQUE
END:VEVENT
END:VCALENDAR