BEGIN:VCALENDAR
VERSION:2.0
PRODID:-//jEvents 2.0 for Joomla//EN
CALSCALE:GREGORIAN
METHOD:PUBLISH
BEGIN:VEVENT
UID:59e296be2b52e6f124706f496ee6bab4
CATEGORIES:DEFAULT
SUMMARY:Après-midi loisirs en salle Gérard Philipe
DESCRIPTION;ENCODING=QUOTED-PRINTABLE:<p>Après-midi loisirs en salle Gérard Philipe (Francine Habert et Micheline
  Combeau)</p>
X-EXTRAINFO:.
DTSTAMP:20260425T155927Z
DTSTART:20221209T130000Z
SEQUENCE:0
TRANSP:OPAQUE
END:VEVENT
END:VCALENDAR