BEGIN:VCALENDAR
VERSION:2.0
PRODID:-//jEvents 2.0 for Joomla//EN
CALSCALE:GREGORIAN
METHOD:PUBLISH
BEGIN:VEVENT
UID:945acbf683769d108a6806060bd15cc5
CATEGORIES:DEFAULT
SUMMARY:Marche Nordique
LOCATION:Square Lafayette
DESCRIPTION;ENCODING=QUOTED-PRINTABLE:
X-EXTRAINFO:Rendez-vous square Lafayette
DTSTAMP:20260423T160943Z
DTSTART:20220319T080000Z
SEQUENCE:0
TRANSP:OPAQUE
END:VEVENT
END:VCALENDAR