BEGIN:VCALENDAR
VERSION:2.0
PRODID:-//jEvents 2.0 for Joomla//EN
CALSCALE:GREGORIAN
METHOD:PUBLISH
BEGIN:VEVENT
UID:afe5f4e4824ee53e12b95d31386f7a48
CATEGORIES:DEFAULT
SUMMARY:Marche Nordique
LOCATION:Square Lafayette
DESCRIPTION;ENCODING=QUOTED-PRINTABLE:
X-EXTRAINFO:Rendez-vous square Lafayette
DTSTAMP:20260423T163224Z
DTSTART:20220326T080000Z
SEQUENCE:0
TRANSP:OPAQUE
END:VEVENT
END:VCALENDAR