BEGIN:VCALENDAR
VERSION:2.0
PRODID:-//jEvents 2.0 for Joomla//EN
CALSCALE:GREGORIAN
METHOD:PUBLISH
BEGIN:VEVENT
UID:1c4f4f9f0b7bd255f626928fa7d5b5d7
CATEGORIES:DEFAULT
SUMMARY:Marche Nordique
LOCATION:Square Lafayette
DESCRIPTION;ENCODING=QUOTED-PRINTABLE:
X-EXTRAINFO:Rendez-vous square Lafayette
DTSTAMP:20260425T141332Z
DTSTART:20220224T124500Z
SEQUENCE:0
TRANSP:OPAQUE
END:VEVENT
END:VCALENDAR