BEGIN:VCALENDAR
VERSION:2.0
PRODID:-//jEvents 2.0 for Joomla//EN
CALSCALE:GREGORIAN
METHOD:PUBLISH
BEGIN:VEVENT
UID:a6c6d277520d4359dd2af5da67eaa4b0
CATEGORIES:DEFAULT
SUMMARY:Marche Nordique
LOCATION:Square Lafayette
DESCRIPTION;ENCODING=QUOTED-PRINTABLE:
X-EXTRAINFO:Rendez-vous square Lafayette
DTSTAMP:20260423T171354Z
DTSTART:20220604T070000Z
SEQUENCE:0
TRANSP:OPAQUE
END:VEVENT
END:VCALENDAR