BEGIN:VCALENDAR
VERSION:2.0
PRODID:-//jEvents 2.0 for Joomla//EN
CALSCALE:GREGORIAN
METHOD:PUBLISH
BEGIN:VEVENT
UID:0a157c1d183e128ff6960c0ac3e00d4e
CATEGORIES:DEFAULT
SUMMARY:Marche Nordique
LOCATION:Square Lafayette
DESCRIPTION;ENCODING=QUOTED-PRINTABLE:
X-EXTRAINFO:Rendez-vous square Lafayette
DTSTAMP:20260423T143922Z
DTSTART:20220430T070000Z
SEQUENCE:0
TRANSP:OPAQUE
END:VEVENT
END:VCALENDAR