BEGIN:VCALENDAR
VERSION:2.0
PRODID:-//jEvents 2.0 for Joomla//EN
CALSCALE:GREGORIAN
METHOD:PUBLISH
BEGIN:VEVENT
UID:0e9e6722fd8fd963662da88677d768d9
CATEGORIES:DEFAULT
SUMMARY:Assemblée Générale des Amis de la Nature de St-Dié
LOCATION:Salle Carbonnar
DESCRIPTION;ENCODING=QUOTED-PRINTABLE:
CONTACT:François Goethals
X-EXTRAINFO:AG suivi d'un repas\nInscription auprès de Josiane L'Hôte pour le 17/10 der
 nier délai avec un chèque de participation de 16 €
DTSTAMP:20260425T155930Z
DTSTART:20221127T080000Z
SEQUENCE:0
TRANSP:OPAQUE
END:VEVENT
END:VCALENDAR