BEGIN:VCALENDAR
VERSION:2.0
PRODID:-//jEvents 2.0 for Joomla//EN
CALSCALE:GREGORIAN
METHOD:PUBLISH
BEGIN:VEVENT
UID:ed9c4e4c273e319f17b6d41d10439cbe
CATEGORIES:DEFAULT
SUMMARY:Sortie sur 2 jours
LOCATION:Rendez-vous square Lafayette
DESCRIPTION;ENCODING=QUOTED-PRINTABLE:
CONTACT:Monique Oberlé
X-EXTRAINFO:Sur inscription\nItinéraire Albert Schweitzer (Kaysersberg à Gunsbach avec 
 nuit à Labaroche
DTSTAMP:20260425T173224Z
DTSTART:20221018T060000Z
SEQUENCE:0
TRANSP:OPAQUE
END:VEVENT
END:VCALENDAR