BEGIN:VCALENDAR
VERSION:2.0
PRODID:-//jEvents 2.0 for Joomla//EN
CALSCALE:GREGORIAN
METHOD:PUBLISH
BEGIN:VEVENT
UID:540ccc139460cd7a71f799bb4939239c
CATEGORIES:DEFAULT
SUMMARY:Sortie Champignons
LOCATION:Rendez-vous square Lafayette
DESCRIPTION;ENCODING=QUOTED-PRINTABLE:
CONTACT:Gaby Devillard
X-EXTRAINFO:Sortie champignons suivi d'un repas tiré du sac au Hangochet
DTSTAMP:20260425T173224Z
DTSTART:20221012T063000Z
SEQUENCE:0
TRANSP:OPAQUE
END:VEVENT
END:VCALENDAR