BEGIN:VCALENDAR
VERSION:2.0
PRODID:-//jEvents 2.0 for Joomla//EN
CALSCALE:GREGORIAN
METHOD:PUBLISH
BEGIN:VEVENT
UID:23fd83265710ad853f453eabdb2859b6
CATEGORIES:DEFAULT
SUMMARY:Journée nettoyage au Hangochet
LOCATION:Le Hangochet
DESCRIPTION;ENCODING=QUOTED-PRINTABLE:
CONTACT:Gérard L'Hôte
X-EXTRAINFO:Repas tiré du sac
DTSTAMP:20260425T155927Z
DTSTART:20220922T070000Z
SEQUENCE:0
TRANSP:OPAQUE
END:VEVENT
END:VCALENDAR