BEGIN:VCALENDAR
VERSION:2.0
PRODID:-//jEvents 2.0 for Joomla//EN
CALSCALE:GREGORIAN
METHOD:PUBLISH
BEGIN:VEVENT
UID:f94f2a42d6c6eed593b79ff6b2302d29
CATEGORIES:DEFAULT
SUMMARY:Weekend au Bouzey
LOCATION:Rendez-vous square Lafayette
DESCRIPTION;ENCODING=QUOTED-PRINTABLE:
CONTACT:François Goethals
X-EXTRAINFO:Sur inscription\nWeekend randonnée et feux d'artifices avec nuit au Bouzey
DTSTAMP:20260425T155925Z
DTSTART:20220827T090000Z
SEQUENCE:0
TRANSP:OPAQUE
END:VEVENT
END:VCALENDAR