BEGIN:VCALENDAR
VERSION:2.0
PRODID:-//jEvents 2.0 for Joomla//EN
CALSCALE:GREGORIAN
METHOD:PUBLISH
BEGIN:VEVENT
UID:7c3557636b4124aee8a667d893527174
CATEGORIES:DEFAULT
SUMMARY:Grillades au Hangochet
LOCATION:Le Hangochet
DESCRIPTION;ENCODING=QUOTED-PRINTABLE:
CONTACT:Gérard et Josiane L'Hôte
X-EXTRAINFO:Inscription obligatoire 15 € d'arrhes par personne
DTSTAMP:20260425T172239Z
DTSTART:20220821T090000Z
SEQUENCE:0
TRANSP:OPAQUE
END:VEVENT
END:VCALENDAR