BEGIN:VCALENDAR
VERSION:2.0
PRODID:-//jEvents 2.0 for Joomla//EN
CALSCALE:GREGORIAN
METHOD:PUBLISH
BEGIN:VEVENT
UID:055d820e378307a981cca96989a5920a
CATEGORIES:DEFAULT
SUMMARY:Séjour chalet Ma Néou aux Angles
LOCATION:chalet Ma Néou (Les Angles - Pyrénées orientales)
DESCRIPTION;ENCODING=QUOTED-PRINTABLE:
CONTACT:François Goethals
X-EXTRAINFO:Sur inscription
DTSTAMP:20260423T191408Z
DTSTART;VALUE=DATE:20220625
DTEND;VALUE=DATE:20220704
SEQUENCE:0
TRANSP:OPAQUE
END:VEVENT
END:VCALENDAR