BEGIN:VCALENDAR
VERSION:2.0
PRODID:-//jEvents 2.0 for Joomla//EN
CALSCALE:GREGORIAN
METHOD:PUBLISH
BEGIN:VEVENT
UID:20a1b1eb7ef0c39a6729458ebc9e9aca
CATEGORIES:DEFAULT
SUMMARY:Conférence "Les Huiles Essentielles"
LOCATION:Salle Gérard Philipe
DESCRIPTION;ENCODING=QUOTED-PRINTABLE:
CONTACT:Françoise Hamann
X-EXTRAINFO:.
DTSTAMP:20260423T191530Z
DTSTART;VALUE=DATE:20220610
DTEND;VALUE=DATE:20220611
SEQUENCE:0
TRANSP:OPAQUE
END:VEVENT
END:VCALENDAR