BEGIN:VCALENDAR
VERSION:2.0
PRODID:-//jEvents 2.0 for Joomla//EN
CALSCALE:GREGORIAN
METHOD:PUBLISH
BEGIN:VEVENT
UID:9a14d816cb25adfbf5c23d0d960cba0e
CATEGORIES:DEFAULT
SUMMARY:Elections législatives
DESCRIPTION;ENCODING=QUOTED-PRINTABLE:
X-EXTRAINFO:.
DTSTAMP:20260423T191739Z
DTSTART;VALUE=DATE:20220612
DTEND;VALUE=DATE:20220613
SEQUENCE:0
TRANSP:OPAQUE
END:VEVENT
END:VCALENDAR