BEGIN:VCALENDAR
VERSION:2.0
PRODID:-//jEvents 2.0 for Joomla//EN
CALSCALE:GREGORIAN
METHOD:PUBLISH
BEGIN:VEVENT
UID:275709b00874d4393fe7963ac812034d
CATEGORIES:DEFAULT
SUMMARY:Journée Boules et quilles
LOCATION:Rendez-vous square Lafayette
DESCRIPTION;ENCODING=QUOTED-PRINTABLE:
CONTACT:Jean-Charles Martin
X-EXTRAINFO:Chez Jean-Charles Martin\nMatin : préparation de l'air de jeu\nMidi : repas
  tiré du sac\nAprès-midi : tournoi de boulles ou de quilles
DTSTAMP:20260423T171407Z
DTSTART:20220608T063000Z
SEQUENCE:0
TRANSP:OPAQUE
END:VEVENT
END:VCALENDAR