BEGIN:VCALENDAR
VERSION:2.0
PRODID:-//jEvents 2.0 for Joomla//EN
CALSCALE:GREGORIAN
METHOD:PUBLISH
BEGIN:VEVENT
UID:bbd6e6ea816d1972cd09d019f130c78d
CATEGORIES:DEFAULT
SUMMARY:Congrès national à Evian
LOCATION:Evian
DESCRIPTION;ENCODING=QUOTED-PRINTABLE:
CONTACT:François Goethals
X-EXTRAINFO:Sur inscription
DTSTAMP:20260423T191313Z
DTSTART;VALUE=DATE:20220604
DTEND;VALUE=DATE:20220607
SEQUENCE:0
TRANSP:OPAQUE
END:VEVENT
END:VCALENDAR