BEGIN:VCALENDAR
VERSION:2.0
PRODID:-//jEvents 2.0 for Joomla//EN
CALSCALE:GREGORIAN
METHOD:PUBLISH
BEGIN:VEVENT
UID:d236a3b00708c211d5c8d17a8c910067
CATEGORIES:DEFAULT
SUMMARY:Séjour au Rousses (Jura)
DESCRIPTION;ENCODING=QUOTED-PRINTABLE:
CONTACT:Françoise Hamann
X-EXTRAINFO:Sur inscription
DTSTAMP:20260423T181006Z
DTSTART;VALUE=DATE:20220519
DTEND;VALUE=DATE:20220523
SEQUENCE:0
TRANSP:OPAQUE
END:VEVENT
END:VCALENDAR