BEGIN:VCALENDAR
VERSION:2.0
PRODID:-//jEvents 2.0 for Joomla//EN
CALSCALE:GREGORIAN
METHOD:PUBLISH
BEGIN:VEVENT
UID:ca9305a6d5a601676ea559b2cdd4a32d
CATEGORIES:DEFAULT
SUMMARY:Repas réunionnais
LOCATION:Le Hangochet
DESCRIPTION;ENCODING=QUOTED-PRINTABLE:
CONTACT:Francine Habert ou Jean-Charles Martin
X-EXTRAINFO:Sur inscription\nPossibilité de passer la nuit au chalet
DTSTAMP:20260423T171356Z
DTSTART:20220515T100000Z
SEQUENCE:0
TRANSP:OPAQUE
END:VEVENT
END:VCALENDAR