BEGIN:VCALENDAR
VERSION:2.0
PRODID:-//jEvents 2.0 for Joomla//EN
CALSCALE:GREGORIAN
METHOD:PUBLISH
BEGIN:VEVENT
UID:f37015ea19b3411228833959e1228e72
CATEGORIES:DEFAULT
SUMMARY:Réunion de CA
LOCATION:Salle Gérard Philipe
DESCRIPTION;ENCODING=QUOTED-PRINTABLE:
X-EXTRAINFO:.
DTSTAMP:20260425T104022Z
DTSTART:20220513T180000Z
SEQUENCE:0
TRANSP:OPAQUE
END:VEVENT
END:VCALENDAR