BEGIN:VCALENDAR
VERSION:2.0
PRODID:-//jEvents 2.0 for Joomla//EN
CALSCALE:GREGORIAN
METHOD:PUBLISH
BEGIN:VEVENT
UID:3b2e27eb0bec50740cd8f1925c0e3f94
CATEGORIES:DEFAULT
SUMMARY:Sortie vélo
LOCATION:Rendez-vous square Lafayette
DESCRIPTION;ENCODING=QUOTED-PRINTABLE:
CONTACT:Berbard Braganti et Monique Oberlé
X-EXTRAINFO:Repas tiré du sac ou des sacoches
DTSTAMP:20260423T160102Z
DTSTART:20220525T073000Z
SEQUENCE:0
TRANSP:OPAQUE
END:VEVENT
END:VCALENDAR