BEGIN:VCALENDAR
VERSION:2.0
PRODID:-//jEvents 2.0 for Joomla//EN
CALSCALE:GREGORIAN
METHOD:PUBLISH
BEGIN:VEVENT
UID:893a85bbd1bec26a218457b8e5d0484d
CATEGORIES:DEFAULT
SUMMARY:Randonnée à la journée
LOCATION:Rendez-vous square Lafayette
DESCRIPTION;ENCODING=QUOTED-PRINTABLE:
CONTACT:François Goethals
X-EXTRAINFO:Repas tiré du sac
DTSTAMP:20260423T171552Z
DTSTART:20220508T063000Z
SEQUENCE:0
TRANSP:OPAQUE
END:VEVENT
END:VCALENDAR