BEGIN:VCALENDAR
VERSION:2.0
PRODID:-//jEvents 2.0 for Joomla//EN
CALSCALE:GREGORIAN
METHOD:PUBLISH
BEGIN:VEVENT
UID:1777028b993503fcf2797685c3b04738
CATEGORIES:DEFAULT
SUMMARY:Tour du Kemberg organisé par le Club Vosgien de St-Dié
DESCRIPTION;ENCODING=QUOTED-PRINTABLE:
X-EXTRAINFO:.
DTSTAMP:20260423T191354Z
DTSTART;VALUE=DATE:20220501
DTEND;VALUE=DATE:20220502
SEQUENCE:0
TRANSP:OPAQUE
END:VEVENT
END:VCALENDAR