BEGIN:VCALENDAR
VERSION:2.0
PRODID:-//jEvents 2.0 for Joomla//EN
CALSCALE:GREGORIAN
METHOD:PUBLISH
BEGIN:VEVENT
UID:3c311846e8f22221d906f7f7d65d6b49
CATEGORIES:DEFAULT
SUMMARY:Randonnée à la journée
LOCATION:Rendez-vous square Lafayette
DESCRIPTION;ENCODING=QUOTED-PRINTABLE:
CONTACT:Josiane L'Hôte
X-EXTRAINFO:Repas tiré du sac
DTSTAMP:20260423T142924Z
DTSTART:20220422T063000Z
SEQUENCE:0
TRANSP:OPAQUE
END:VEVENT
END:VCALENDAR