BEGIN:VCALENDAR
VERSION:2.0
PRODID:-//jEvents 2.0 for Joomla//EN
CALSCALE:GREGORIAN
METHOD:PUBLISH
BEGIN:VEVENT
UID:90aeb10cea5e96a9ae9994c420cf1049
CATEGORIES:DEFAULT
SUMMARY:Randonnée douce
LOCATION:Rendez-vous square Lafayette
DESCRIPTION;ENCODING=QUOTED-PRINTABLE:
CONTACT:Bernard Braganti
X-EXTRAINFO:.
DTSTAMP:20260423T143922Z
DTSTART:20220420T113000Z
SEQUENCE:0
TRANSP:OPAQUE
END:VEVENT
END:VCALENDAR