BEGIN:VCALENDAR
VERSION:2.0
PRODID:-//jEvents 2.0 for Joomla//EN
CALSCALE:GREGORIAN
METHOD:PUBLISH
BEGIN:VEVENT
UID:3e3c9fc9da853db327a949de556fba55
CATEGORIES:DEFAULT
SUMMARY:Pâques
DESCRIPTION;ENCODING=QUOTED-PRINTABLE:
X-EXTRAINFO:.
DTSTAMP:20260423T163743Z
DTSTART;VALUE=DATE:20220417
DTEND;VALUE=DATE:20220418
SEQUENCE:0
TRANSP:OPAQUE
END:VEVENT
END:VCALENDAR