BEGIN:VCALENDAR
VERSION:2.0
PRODID:-//jEvents 2.0 for Joomla//EN
CALSCALE:GREGORIAN
METHOD:PUBLISH
BEGIN:VEVENT
UID:ae2036be96314728d6e099d11ac40866
CATEGORIES:DEFAULT
SUMMARY:Elections présidentielles
DESCRIPTION;ENCODING=QUOTED-PRINTABLE:
X-EXTRAINFO:.
DTSTAMP:20260423T162918Z
DTSTART;VALUE=DATE:20220410
DTEND;VALUE=DATE:20220411
SEQUENCE:0
TRANSP:OPAQUE
END:VEVENT
END:VCALENDAR