BEGIN:VCALENDAR
VERSION:2.0
PRODID:-//jEvents 2.0 for Joomla//EN
CALSCALE:GREGORIAN
METHOD:PUBLISH
BEGIN:VEVENT
UID:8be7e8225ac8d5c7cebbbf3f857146b3
CATEGORIES:DEFAULT
SUMMARY:Sortie pédestre (aspérule odorante)
LOCATION:Rendez-vous square Lafayette
DESCRIPTION;ENCODING=QUOTED-PRINTABLE:
CONTACT:Simone Bastian
X-EXTRAINFO:La chapelle Ste Claire par Frapelle
DTSTAMP:20260423T144902Z
DTSTART:20220427T113000Z
SEQUENCE:0
TRANSP:OPAQUE
END:VEVENT
END:VCALENDAR