BEGIN:VCALENDAR
VERSION:2.0
PRODID:-//jEvents 2.0 for Joomla//EN
CALSCALE:GREGORIAN
METHOD:PUBLISH
BEGIN:VEVENT
UID:ceccfd5d37ec6863b941854330b9514d
CATEGORIES:DEFAULT
SUMMARY:Journée nettoyage au Hangochet
LOCATION:Le Hangochet
DESCRIPTION;ENCODING=QUOTED-PRINTABLE:
CONTACT:Gérard L'Hôte
X-EXTRAINFO:Repas tiré du sac
DTSTAMP:20260423T161442Z
DTSTART:20220407T070000Z
SEQUENCE:0
TRANSP:OPAQUE
END:VEVENT
END:VCALENDAR