BEGIN:VCALENDAR
VERSION:2.0
PRODID:-//jEvents 2.0 for Joomla//EN
CALSCALE:GREGORIAN
METHOD:PUBLISH
BEGIN:VEVENT
UID:5b0d6a49811e769f8012cbf695e84f10
CATEGORIES:DEFAULT
SUMMARY:Randonnée douce
LOCATION:Rendez-vous square Lafayette
DESCRIPTION;ENCODING=QUOTED-PRINTABLE:Randonnée douce le mercredi 30 mars.Boucle sur les environs de Saint-Rémy.7
 ,5 Km / 160 m de dénivelé.Covoiturage 1,5 €.RDV au parking La Fayette à 13h
 30.La rando démarrera au parking de l'école de Saint-Rémy.Bernard 06 31 30 
 35 53
CONTACT:Bernard Braganti
X-EXTRAINFO:.
DTSTAMP:20260423T161004Z
DTSTART:20220330T113000Z
SEQUENCE:0
TRANSP:OPAQUE
END:VEVENT
END:VCALENDAR