BEGIN:VCALENDAR
VERSION:2.0
PRODID:-//jEvents 2.0 for Joomla//EN
CALSCALE:GREGORIAN
METHOD:PUBLISH
BEGIN:VEVENT
UID:5459d8660c90f30eee3f6c8bc114bf6a
CATEGORIES:DEFAULT
SUMMARY:Comité départemental
LOCATION:Chalet Le Val d'Ajol
DESCRIPTION;ENCODING=QUOTED-PRINTABLE:
CONTACT:François Goethals
X-EXTRAINFO:Réservé aux membres du CA
DTSTAMP:20260423T180940Z
DTSTART;VALUE=DATE:20220320
DTEND;VALUE=DATE:20220321
SEQUENCE:0
TRANSP:OPAQUE
END:VEVENT
END:VCALENDAR