BEGIN:VCALENDAR
VERSION:2.0
PRODID:-//jEvents 2.0 for Joomla//EN
CALSCALE:GREGORIAN
METHOD:PUBLISH
BEGIN:VEVENT
UID:fac457d0f26d5328a034b382c618a45d
CATEGORIES:DEFAULT
SUMMARY:Sortie mémorial de Schirmeck avec repas
LOCATION:Rendez-vous square Lafayette
DESCRIPTION;ENCODING=QUOTED-PRINTABLE:
CONTACT:Monique Oberlé
X-EXTRAINFO:Sur inscription\nMatin : randonnée douce\nMidi : repas à Fouday\nAprès-midi
  : mémorial de Schirmeck
DTSTAMP:20260423T162952Z
DTSTART:20220313T080000Z
SEQUENCE:0
TRANSP:OPAQUE
END:VEVENT
END:VCALENDAR